BEGIN:VCALENDAR
VERSION:2.0
PRODID:-//Yapuka - Le Chant des Arbres - ECPv6.15.19//NONSGML v1.0//EN
CALSCALE:GREGORIAN
METHOD:PUBLISH
X-WR-CALNAME:Yapuka - Le Chant des Arbres
X-ORIGINAL-URL:https://yapuka61.fr
X-WR-CALDESC:Évènements pour Yapuka - Le Chant des Arbres
REFRESH-INTERVAL;VALUE=DURATION:PT1H
X-Robots-Tag:noindex
X-PUBLISHED-TTL:PT1H
BEGIN:VTIMEZONE
TZID:Europe/Paris
BEGIN:DAYLIGHT
TZOFFSETFROM:+0100
TZOFFSETTO:+0200
TZNAME:CEST
DTSTART:20230326T010000
END:DAYLIGHT
BEGIN:STANDARD
TZOFFSETFROM:+0200
TZOFFSETTO:+0100
TZNAME:CET
DTSTART:20231029T010000
END:STANDARD
BEGIN:DAYLIGHT
TZOFFSETFROM:+0100
TZOFFSETTO:+0200
TZNAME:CEST
DTSTART:20240331T010000
END:DAYLIGHT
BEGIN:STANDARD
TZOFFSETFROM:+0200
TZOFFSETTO:+0100
TZNAME:CET
DTSTART:20241027T010000
END:STANDARD
BEGIN:DAYLIGHT
TZOFFSETFROM:+0100
TZOFFSETTO:+0200
TZNAME:CEST
DTSTART:20250330T010000
END:DAYLIGHT
BEGIN:STANDARD
TZOFFSETFROM:+0200
TZOFFSETTO:+0100
TZNAME:CET
DTSTART:20251026T010000
END:STANDARD
END:VTIMEZONE
BEGIN:VEVENT
DTSTART;TZID=Europe/Paris:20240921T140000
DTEND;TZID=Europe/Paris:20240921T233000
DTSTAMP:20260422T154036
CREATED:20240227T205211Z
LAST-MODIFIED:20240909T131620Z
UID:807-1726927200-1726961400@yapuka61.fr
SUMMARY:Fête du Chant des Abres 2024
DESCRIPTION:La Fête du chant des Arbres est de retour samedi 21 septembre pour sa 6ème édition \nDès 14h venez profiter des animations\, expositions\, repair’ café (et repair’ vélos)\, jeux et village associatif ! \n\n\nBar associatif\nVillage associatif\nSpectacles\nVisite du lieu\nAteliers divers…\n\n\nEt à 19h on va bouger avec les concerts d’Akordaïa et Hop Hop Hop Crew ! \n\n\n\nEntré sur adhésion à prix libre et conscient.\nPrenez de la monnaie pour le bar et la restauration !\n\n\nLe programme (presque) complet :\n\n 
URL:https://yapuka61.fr/evenement/fete-du-chant-des-abres-2024/
LOCATION:Le Chant des Arbres\, 2 rue de Lonrai\, Colombiers\, 61250\, France
CATEGORIES:Fêtes
ATTACH;FMTTYPE=image/png:https://yapuka61.fr/wp-content/uploads/2024/02/Affiche-fete-2024.png
END:VEVENT
END:VCALENDAR