BEGIN:VCALENDAR
VERSION:2.0
PRODID:-//Yapuka - Le Chant des Arbres - ECPv6.15.19//NONSGML v1.0//EN
CALSCALE:GREGORIAN
METHOD:PUBLISH
X-WR-CALNAME:Yapuka - Le Chant des Arbres
X-ORIGINAL-URL:https://yapuka61.fr
X-WR-CALDESC:Évènements pour Yapuka - Le Chant des Arbres
REFRESH-INTERVAL;VALUE=DURATION:PT1H
X-Robots-Tag:noindex
X-PUBLISHED-TTL:PT1H
BEGIN:VTIMEZONE
TZID:Europe/Paris
BEGIN:DAYLIGHT
TZOFFSETFROM:+0100
TZOFFSETTO:+0200
TZNAME:CEST
DTSTART:20230326T010000
END:DAYLIGHT
BEGIN:STANDARD
TZOFFSETFROM:+0200
TZOFFSETTO:+0100
TZNAME:CET
DTSTART:20231029T010000
END:STANDARD
BEGIN:DAYLIGHT
TZOFFSETFROM:+0100
TZOFFSETTO:+0200
TZNAME:CEST
DTSTART:20240331T010000
END:DAYLIGHT
BEGIN:STANDARD
TZOFFSETFROM:+0200
TZOFFSETTO:+0100
TZNAME:CET
DTSTART:20241027T010000
END:STANDARD
BEGIN:DAYLIGHT
TZOFFSETFROM:+0100
TZOFFSETTO:+0200
TZNAME:CEST
DTSTART:20250330T010000
END:DAYLIGHT
BEGIN:STANDARD
TZOFFSETFROM:+0200
TZOFFSETTO:+0100
TZNAME:CET
DTSTART:20251026T010000
END:STANDARD
END:VTIMEZONE
BEGIN:VEVENT
DTSTART;TZID=Europe/Paris:20241019T140000
DTEND;TZID=Europe/Paris:20241019T230000
DTSTAMP:20260422T141139
CREATED:20240227T210000Z
LAST-MODIFIED:20241017T085424Z
UID:809-1729346400-1729378800@yapuka61.fr
SUMMARY:Fête de la Pomme 2024
DESCRIPTION:Notre traditionnelle fête de la Pomme organisée en partenariat avec nos amis de D’écouves Verte revient avec toujours au programme : \n\nchantier collectif de ramassage des pommes du verger (pommes servant ensuite au pressage pour la production de notre jus de pommes) ;\natelier cuisine avec les pommes ;\nlancer de pommes pourries ;\nescape game ;\nbar associatif ;\nconcerts :\n\n4pas4temps : nouvelle formule. Un groupe de musique trad’ qui nous invitera à danser !\nIrish Moov : Le groupe propose un set de son univers musical à travers jigs\, reels et balades. Tantôt festif\, tantôt mélancolique\, une épopée Irlandaise à la sauce Frenchy !\n\n\n\nPensez à prendre :\n– Vos BOTTES et Imperméable.\n– Cagette(s) et/ou sac(s) pour les remplir de pommes et les remmener chez vous (si vous le désirez) !\n– De l’espèce (nous ne sommes pas équipés d’appareil à carte). \nEntrée gratuite pour les adhérents\, adhésion à prix libre. \n\n			\n				\n			\n			\n				\n			\n		\n\n 
URL:https://yapuka61.fr/evenement/fete-de-la-pomme-2024/
LOCATION:Le Chant des Arbres\, 2 rue de Lonrai\, Colombiers\, 61250\, France
CATEGORIES:Fêtes
ATTACH;FMTTYPE=image/png:https://yapuka61.fr/wp-content/uploads/2024/02/fete-de-la-pomme-24.png
END:VEVENT
END:VCALENDAR