BEGIN:VCALENDAR
VERSION:2.0
PRODID:-//Yapuka - Le Chant des Arbres - ECPv6.15.19//NONSGML v1.0//EN
CALSCALE:GREGORIAN
METHOD:PUBLISH
X-ORIGINAL-URL:https://yapuka61.fr
X-WR-CALDESC:Évènements pour Yapuka - Le Chant des Arbres
REFRESH-INTERVAL;VALUE=DURATION:PT1H
X-Robots-Tag:noindex
X-PUBLISHED-TTL:PT1H
BEGIN:VTIMEZONE
TZID:Europe/Paris
BEGIN:DAYLIGHT
TZOFFSETFROM:+0100
TZOFFSETTO:+0200
TZNAME:CEST
DTSTART:20240331T010000
END:DAYLIGHT
BEGIN:STANDARD
TZOFFSETFROM:+0200
TZOFFSETTO:+0100
TZNAME:CET
DTSTART:20241027T010000
END:STANDARD
BEGIN:DAYLIGHT
TZOFFSETFROM:+0100
TZOFFSETTO:+0200
TZNAME:CEST
DTSTART:20250330T010000
END:DAYLIGHT
BEGIN:STANDARD
TZOFFSETFROM:+0200
TZOFFSETTO:+0100
TZNAME:CET
DTSTART:20251026T010000
END:STANDARD
BEGIN:DAYLIGHT
TZOFFSETFROM:+0100
TZOFFSETTO:+0200
TZNAME:CEST
DTSTART:20260329T010000
END:DAYLIGHT
BEGIN:STANDARD
TZOFFSETFROM:+0200
TZOFFSETTO:+0100
TZNAME:CET
DTSTART:20261025T010000
END:STANDARD
END:VTIMEZONE
BEGIN:VEVENT
DTSTART;TZID=Europe/Paris:20250510T140000
DTEND;TZID=Europe/Paris:20250510T200000
DTSTAMP:20260422T032950
CREATED:20250218T201025Z
LAST-MODIFIED:20250423T162455Z
UID:1211-1746885600-1746907200@yapuka61.fr
SUMMARY:Fête d'ouverture 2025
DESCRIPTION:On se retrouve samedi 10 mai dès 14h pour un après-midi festif au Chant des Arbres\, avec cette année une thématique qui nous tient à cœur : les haies. \n  \nPêle-mêle au programme : \n\ntroc-plantes\n15h : visite guidée et commentée de haies plantées ces dernières années avec des intervenant·e·s du PNR Normandie Maine et de la SCIC Bois Bocage Energie\nateliers/stands autour des haies  : utilités des haies\, gestion et entretien\, etc.\, venez poser vos questions à des professionnel·le·s passionné·e·s !\n15h30-16h15 :balade poétique avec Nathalie et Marc\njeux en bois\nexpo photos de Yvan Juhel\, photographe local\nvente de produits des producteurs du Relais du Chant des Arbres\n17h30 : spectacle « L’homme qui plantait des arbres » par la compagnie « Théâtre des Turbulences« \n\nBuvette sur place tout l’après-midi. \nEntrée libre pour les adhérent-e-s. Adhésion annuelle à l’association à prix libre et conscient. \nA bientôt 😉
URL:https://yapuka61.fr/evenement/fete-douverture-2025/
LOCATION:Le Chant des Arbres\, 2 rue de Lonrai\, Colombiers\, 61250\, France
CATEGORIES:Fêtes
ATTACH;FMTTYPE=image/jpeg:https://yapuka61.fr/wp-content/uploads/2025/02/Fete-douverture-2025.jpg
END:VEVENT
END:VCALENDAR