BEGIN:VCALENDAR
VERSION:2.0
PRODID:-//Yapuka - Le Chant des Arbres - ECPv6.15.19//NONSGML v1.0//EN
CALSCALE:GREGORIAN
METHOD:PUBLISH
X-WR-CALNAME:Yapuka - Le Chant des Arbres
X-ORIGINAL-URL:https://yapuka61.fr
X-WR-CALDESC:Évènements pour Yapuka - Le Chant des Arbres
REFRESH-INTERVAL;VALUE=DURATION:PT1H
X-Robots-Tag:noindex
X-PUBLISHED-TTL:PT1H
BEGIN:VTIMEZONE
TZID:Europe/Paris
BEGIN:DAYLIGHT
TZOFFSETFROM:+0100
TZOFFSETTO:+0200
TZNAME:CEST
DTSTART:20240331T010000
END:DAYLIGHT
BEGIN:STANDARD
TZOFFSETFROM:+0200
TZOFFSETTO:+0100
TZNAME:CET
DTSTART:20241027T010000
END:STANDARD
BEGIN:DAYLIGHT
TZOFFSETFROM:+0100
TZOFFSETTO:+0200
TZNAME:CEST
DTSTART:20250330T010000
END:DAYLIGHT
BEGIN:STANDARD
TZOFFSETFROM:+0200
TZOFFSETTO:+0100
TZNAME:CET
DTSTART:20251026T010000
END:STANDARD
BEGIN:DAYLIGHT
TZOFFSETFROM:+0100
TZOFFSETTO:+0200
TZNAME:CEST
DTSTART:20260329T010000
END:DAYLIGHT
BEGIN:STANDARD
TZOFFSETFROM:+0200
TZOFFSETTO:+0100
TZNAME:CET
DTSTART:20261025T010000
END:STANDARD
END:VTIMEZONE
BEGIN:VEVENT
DTSTART;TZID=Europe/Paris:20251018T143000
DTEND;TZID=Europe/Paris:20251018T220000
DTSTAMP:20260421T195556
CREATED:20250218T201642Z
LAST-MODIFIED:20251005T093922Z
UID:1215-1760797800-1760824800@yapuka61.fr
SUMMARY:Fête de la Pomme 2025
DESCRIPTION:Chantier participatif de ramassage des pommes du verger dès 14h\, en vue du pressage pour transformation en notre sublime jus de pomme ! \nL’après-midi sera également ponctuée de différentes animations : \n\nlancer pommes pourries 🍏🎯\npressage de pommes et dégustation avec le CycloSmoothie 🚲🥤\nexpo dans la yourte des photos de Genesis Hernandes 🖼️\nplusieurs projections du documentaire « Les choix de Benoit » de Nicolas Bruneaux (voir synopsis plus bas) 📽️\n\nLe repas du soir sera assuré par la disco–soupe : on prépare ensemble et en musique avec les courges du potager la soupe du soir 🥣 \nEt pour finir la journée\, on vous propose 2 concerts sous la grange à partir de 19h : \n\nLigne Quatre\nDuo explosif formé par Dr Lulu et Koco\, Ligne Quatre propose un style unique : le Stand-Hop\, savoureux mélange de stand-up et de hip-hop. \nSur scène\, ils jouent avec le public\, improvisent\, rigolent et nous embarquent dans un voyage musical du jazz à la bass music\, avec leurs saxophones.\nStyle : Stand-HopInfluences : Saïan Supa Crew\, NTM\, TTC\, Népal\, Duke Ellington\, Grover Washington\, Haroun\, Aymeric Lompret…\n\nSteel Alive\nSteel Alive naît en 2014 à Lyon et évolue depuis entre la France et l’île de la Réunion. Le duo est formé par Pouss\, à la composition\, à l’accordéon et au clavier ; et Lucas\, qui alterne entre scratch\, guitare et drumpad. Son univers sonore est un mélange explosif de Reggae et de Stepper rehaussé d’une touche organique et accompagné de son élément caractéristique : l’accordéon.\n\nOn espère que le programme vous plait et on espère vous voir nombreuses et nombreux ! \nComme toujours : entrée gratuite sur adhésion à prix libre et conscient. \n  \n\n			\n				\n			\n				\n				Les choix de Benoit\n				\n			\n				\n			\n				\n				Ligne Quatre\n				\n			\n				\n			\n				\n				Steel Alive\n				\n		\n\nSynopsis du court-métrage documentaire :\nUne autre vie\, un autre univers\, un autre rapport au temps et au monde.\nJe rencontre Benoît Noël dans son pré-verger en Normandie.\nIl a le visage façonné par le labeur en extérieur et le sourire chaleureux.\nDans un lieu où les oiseaux narguent le chat\, où les arbres vieillissent paisiblement nous échangeons sur son travail\, l’avenir de son exploitation\, l’usure de son corps\, ses regrets.\nSon caractère se dévoile à mesure que nous faisons connaissance\, son portrait s’esquisse peu à peu: celui d’un homme doux\, calme et plein d’esprit qui porte un regard franc sur ses choix de vie.\nCe film a reçu le Prix du Public aux Rencontres Cinéma-Natures 2025 de DOMPIERRE-SUR-BESBRE.\nSélection Internationale au Festival International des Films Identitaires et Solidaires 2025. \n 
URL:https://yapuka61.fr/evenement/fete-de-la-pomme-2025/
LOCATION:Le Chant des Arbres\, 2 rue de Lonrai\, Colombiers\, 61250\, France
CATEGORIES:Chantiers participatifs,Fêtes
ATTACH;FMTTYPE=image/png:https://yapuka61.fr/wp-content/uploads/2025/02/Affiche_FdPomme_2025.png
END:VEVENT
END:VCALENDAR