BEGIN:VCALENDAR
VERSION:2.0
PRODID:-//Yapuka - Le Chant des Arbres - ECPv6.15.19//NONSGML v1.0//EN
CALSCALE:GREGORIAN
METHOD:PUBLISH
X-WR-CALNAME:Yapuka - Le Chant des Arbres
X-ORIGINAL-URL:https://yapuka61.fr
X-WR-CALDESC:Évènements pour Yapuka - Le Chant des Arbres
REFRESH-INTERVAL;VALUE=DURATION:PT1H
X-Robots-Tag:noindex
X-PUBLISHED-TTL:PT1H
BEGIN:VTIMEZONE
TZID:Europe/Paris
BEGIN:DAYLIGHT
TZOFFSETFROM:+0100
TZOFFSETTO:+0200
TZNAME:CEST
DTSTART:20220327T010000
END:DAYLIGHT
BEGIN:STANDARD
TZOFFSETFROM:+0200
TZOFFSETTO:+0100
TZNAME:CET
DTSTART:20221030T010000
END:STANDARD
BEGIN:DAYLIGHT
TZOFFSETFROM:+0100
TZOFFSETTO:+0200
TZNAME:CEST
DTSTART:20230326T010000
END:DAYLIGHT
BEGIN:STANDARD
TZOFFSETFROM:+0200
TZOFFSETTO:+0100
TZNAME:CET
DTSTART:20231029T010000
END:STANDARD
BEGIN:DAYLIGHT
TZOFFSETFROM:+0100
TZOFFSETTO:+0200
TZNAME:CEST
DTSTART:20240331T010000
END:DAYLIGHT
BEGIN:STANDARD
TZOFFSETFROM:+0200
TZOFFSETTO:+0100
TZNAME:CET
DTSTART:20241027T010000
END:STANDARD
END:VTIMEZONE
BEGIN:VEVENT
DTSTART;TZID=Europe/Paris:20231213T143000
DTEND;TZID=Europe/Paris:20231213T163000
DTSTAMP:20260424T153842
CREATED:20231105T142745Z
LAST-MODIFIED:20240408T194129Z
UID:412-1702477800-1702485000@yapuka61.fr
SUMMARY:Atelier Yapuka Nature "Traces"
DESCRIPTION:Notre traditionnel atelier « Yapuka Nature« \, avec cette fois-ci pour thématique « Traces »\, au programme : observation\, pistage\, écoute… \n10€ la séance de 2h / Tarifs préférentiels pour familles et groupes.
URL:https://yapuka61.fr/evenement/atelier-decouverte-de-nature-traces/
LOCATION:Le Chant des Arbres\, 2 rue de Lonrai\, Colombiers\, 61250\, France
CATEGORIES:AYN
END:VEVENT
END:VCALENDAR